BEGIN:VCALENDAR
VERSION:2.0
PRODID:-//hacksw/handcal//NONSGML v1.0//EN
CALSCALE:GREGORIAN
BEGIN:VTIMEZONE
TZID:America/New_York
BEGIN:STANDARD
RRULE:FREQ=YEARLY;BYMONTH=11;BYDAY=+11SU
DTSTART:16011101T020000
TZOFFSETFROM:-0300
TZOFFSETTO:-0400
END:STANDARD
BEGIN:DAYLIGHT
RRULE:FREQ=YEARLY;BYMONTH=3;BYDAY=+12SU
DTSTART:16010302T020000
TZOFFSETFROM:-0400
TZOFFSETTO:-0300
END:DAYLIGHT
END:VTIMEZONE
BEGIN:VEVENT
DTEND;TZID=America/New_York:20150719T093000
UID:69ece2d24022f
DTSTAMP;TZID=America/New_York:20260425T212042
LOCATION:41 Catoctin Circle\, SE\, Leesburg\, VA 20175
DESCRIPTION:Meet Chris Cooley from the Washington Redskins!&nbsp\; Chris holds the franchise record for most receptions at tight end.&nbsp\; He loves the Leesburg Community and has an art gallery\, “The Cooley Gallery” and also co-hosts “The Drive” on ESPN 980. &nbsp\; &nbsp\; Meet Chris Cooley from 11:00 to 1:00. Cooley Pottery Presentation from 1:30pm to 3:00pm Free Cookout!&nbsp\; Burgers\, Hot Dogs\, Snow Cones &amp\; More! Music from DJ Luis Moon Bounce\, Dunk Tank\, Face Painting\, Balloon Twisters\, Kids Rides Meet Dora The Explorer! Product Tradeshow
URL;VALUE=URI:https://twperry.com/events/3rd-annual-family-fun-day
SUMMARY:3rd Annual Family Fun Day
DTSTART;TZID=America/New_York:20150719T053000
END:VEVENT
END:VCALENDAR