BEGIN:VCALENDAR
VERSION:2.0
PRODID:-//hacksw/handcal//NONSGML v1.0//EN
CALSCALE:GREGORIAN
BEGIN:VTIMEZONE
TZID:America/New_York
BEGIN:STANDARD
RRULE:FREQ=YEARLY;BYMONTH=11;BYDAY=+11SU
DTSTART:16011101T020000
TZOFFSETFROM:-0300
TZOFFSETTO:-0400
END:STANDARD
BEGIN:DAYLIGHT
RRULE:FREQ=YEARLY;BYMONTH=3;BYDAY=+12SU
DTSTART:16010302T020000
TZOFFSETFROM:-0400
TZOFFSETTO:-0300
END:DAYLIGHT
END:VTIMEZONE
BEGIN:VEVENT
DTEND;TZID=America/New_York:20150714T113000
UID:69ece19133093
DTSTAMP;TZID=America/New_York:20260425T211521
LOCATION:208 West Street\, Annapolis\, MD 21401
DESCRIPTION:Class: &nbsp\;Designing Architecturally-Correct Doors with Green Building Materials and Authentic Construction Techniques (Course overview attached) WHEN: July 14\, 2015 4:00 p.m. to 5:00 p.m. - Cocktails and light fare from 5:00 p.m. to 7:00 p.m. RSVP: designstudio@twperry.com or 443.808.1481
URL;VALUE=URI:https://twperry.com/events/interior-designer-training-–-qualifies-1-asid-ceu
SUMMARY:Interior Designer Training – Qualifies for .1 ASID CEU
DTSTART;TZID=America/New_York:20150714T103000
END:VEVENT
END:VCALENDAR