BEGIN:VCALENDAR
VERSION:2.0
PRODID:-//hacksw/handcal//NONSGML v1.0//EN
CALSCALE:GREGORIAN
BEGIN:VTIMEZONE
TZID:America/New_York
BEGIN:STANDARD
RRULE:FREQ=YEARLY;BYMONTH=11;BYDAY=+11SU
DTSTART:16011101T020000
TZOFFSETFROM:-0300
TZOFFSETTO:-0400
END:STANDARD
BEGIN:DAYLIGHT
RRULE:FREQ=YEARLY;BYMONTH=3;BYDAY=+12SU
DTSTART:16010302T020000
TZOFFSETFROM:-0400
TZOFFSETTO:-0300
END:DAYLIGHT
END:VTIMEZONE
BEGIN:VEVENT
DTEND;TZID=America/New_York:20151001T113000
UID:69ece13b7b548
DTSTAMP;TZID=America/New_York:20260425T211355
LOCATION:208 West Street\, Annapolis\, MD 21401
DESCRIPTION:Meet the Annapolis magazine staff\, network with industry peers and receive the new September issue. WHEN: Wednesday\, October 1st\, 2015 4:00 p.m. to 5:00 p.m. - Cocktails and light fare from 5:00 p.m. to 7:00 p.m. RSVP: designstudio@twperry.com or 443.808.1481
URL;VALUE=URI:https://twperry.com/events/annapolis-magazine-fall-celebration
SUMMARY:Annapolis Magazine Fall Celebration
DTSTART;TZID=America/New_York:20151001T103000
END:VEVENT
END:VCALENDAR