BEGIN:VCALENDAR
VERSION:2.0
PRODID:-//hacksw/handcal//NONSGML v1.0//EN
CALSCALE:GREGORIAN
BEGIN:VTIMEZONE
TZID:America/New_York
BEGIN:STANDARD
RRULE:FREQ=YEARLY;BYMONTH=11;BYDAY=+11SU
DTSTART:16011101T020000
TZOFFSETFROM:-0300
TZOFFSETTO:-0400
END:STANDARD
BEGIN:DAYLIGHT
RRULE:FREQ=YEARLY;BYMONTH=3;BYDAY=+12SU
DTSTART:16010302T020000
TZOFFSETFROM:-0400
TZOFFSETTO:-0300
END:DAYLIGHT
END:VTIMEZONE
BEGIN:VEVENT
DTEND;TZID=America/New_York:20150917T140000
UID:69ece192324ab
DTSTAMP;TZID=America/New_York:20260425T211522
LOCATION:8107 Stayton Drive\, Jessup\, MD 20794
DESCRIPTION:Meet the TW Perry Millshop experts and tour the New Millshop.&nbsp\; View custom work in progress! WHEN: Thursday\, September 17\, 2015 4:00 p.m. to 7:30 p.m. - Cocktails and light fare provided RSVP: marketing@twperry.com
URL;VALUE=URI:https://twperry.com/events/new-millshop-open-house-tour
SUMMARY:NEW Millshop Open House & Tour
DTSTART;TZID=America/New_York:20150917T103000
END:VEVENT
END:VCALENDAR