BEGIN:VCALENDAR
VERSION:2.0
PRODID:-//hacksw/handcal//NONSGML v1.0//EN
CALSCALE:GREGORIAN
BEGIN:VTIMEZONE
TZID:America/New_York
BEGIN:STANDARD
RRULE:FREQ=YEARLY;BYMONTH=11;BYDAY=+11SU
DTSTART:16011101T020000
TZOFFSETFROM:-0300
TZOFFSETTO:-0400
END:STANDARD
BEGIN:DAYLIGHT
RRULE:FREQ=YEARLY;BYMONTH=3;BYDAY=+12SU
DTSTART:16010302T020000
TZOFFSETFROM:-0400
TZOFFSETTO:-0300
END:DAYLIGHT
END:VTIMEZONE
BEGIN:VEVENT
DTEND;TZID=America/New_York:20150925T133000
UID:69ece191a970b
DTSTAMP;TZID=America/New_York:20260425T211521
LOCATION:801 Mount Vernon Place NW\, Washington\, DC 20001
DESCRIPTION:From seminars about the latest on pre-fabrication to next-level firm marketing to tours of the region’s fascinating new projects\, Design DC is the&nbsp\;premier regional conference focused on the unique challenges of working in Metropolitan Washington. Information &amp\; Registration: http://aiadc.com/design-dc-2015
URL;VALUE=URI:https://twperry.com/events/design-dc-2015-visit-tw-perry-booth-208
SUMMARY:Design DC 2015 - Visit TW Perry in booth 208!
DTSTART;TZID=America/New_York:20150923T033000
END:VEVENT
END:VCALENDAR