BEGIN:VCALENDAR
VERSION:2.0
PRODID:-//hacksw/handcal//NONSGML v1.0//EN
CALSCALE:GREGORIAN
BEGIN:VTIMEZONE
TZID:America/New_York
BEGIN:STANDARD
RRULE:FREQ=YEARLY;BYMONTH=11;BYDAY=+11SU
DTSTART:16011101T020000
TZOFFSETFROM:-0300
TZOFFSETTO:-0400
END:STANDARD
BEGIN:DAYLIGHT
RRULE:FREQ=YEARLY;BYMONTH=3;BYDAY=+12SU
DTSTART:16010302T020000
TZOFFSETFROM:-0400
TZOFFSETTO:-0300
END:DAYLIGHT
END:VTIMEZONE
BEGIN:VEVENT
DTEND;TZID=America/New_York:20151016T080000
UID:69ece13975c26
DTSTAMP;TZID=America/New_York:20260425T211353
LOCATION:8519 Chevy Chase\, MD 20815
DESCRIPTION:Enjoy lunch\, meet with over 20 product Experts and enter to win 50 prizes! WHEN: October 16\, 2015 11:30 to 1:30
URL;VALUE=URI:https://twperry.com/events/fall-contractor-day
SUMMARY:Fall Contractor Day 
DTSTART;TZID=America/New_York:20151016T060000
END:VEVENT
END:VCALENDAR