BEGIN:VCALENDAR
VERSION:2.0
PRODID:-//hacksw/handcal//NONSGML v1.0//EN
CALSCALE:GREGORIAN
BEGIN:VTIMEZONE
TZID:America/New_York
BEGIN:STANDARD
RRULE:FREQ=YEARLY;BYMONTH=11;BYDAY=+11SU
DTSTART:16011101T020000
TZOFFSETFROM:-0300
TZOFFSETTO:-0400
END:STANDARD
BEGIN:DAYLIGHT
RRULE:FREQ=YEARLY;BYMONTH=3;BYDAY=+12SU
DTSTART:16010302T020000
TZOFFSETFROM:-0400
TZOFFSETTO:-0300
END:DAYLIGHT
END:VTIMEZONE
BEGIN:VEVENT
DTEND;TZID=America/New_York:20151113T133000
UID:69ece1909dddf
DTSTAMP;TZID=America/New_York:20260425T211520
LOCATION:Turf Valley Resort: 2700 Turf Valley Road\, Ellicott City\, MD 21042
DESCRIPTION:~~Join us for a day of insightful\, creative\, and essential information to help you in your workplace!&nbsp\; Presenting: “Residential Requirements for the 2015 Energy Conservation Code” By Joe Nebbia – Energy Code Expert “Create a World Class Experience for Customer Loyalty and Profit” By Rick Davis – Construction Sales Expert Take Home Workbooks and a copy of The Sales Secret Included!&nbsp\; &nbsp\; November 13\, 2015 - 7:00 a.m. to 3:30 p.m. Turf Valley Resort (2700 Turf Valley Road\, Ellicott City\, MD 21042) &nbsp\; 7:00 a.m. - 8:00 a.m. Registration &amp\; Breakfast - Bring your Appetites! Only $25.00 Cost --Value $225 Visit with Product Experts during breaks and enter to WIN Prizes!&nbsp\;&nbsp\; Please RSVP by Thursday\, November 5\, 2014 to&nbsp\; Jennifer Purdy jpurdy@twperry.com&nbsp\; PHONE: 301-987-1487&nbsp\;
URL;VALUE=URI:https://twperry.com/events/contractor-college
SUMMARY:Contractor College
DTSTART;TZID=America/New_York:20151113T013000
END:VEVENT
END:VCALENDAR