BEGIN:VCALENDAR
VERSION:2.0
PRODID:-//hacksw/handcal//NONSGML v1.0//EN
CALSCALE:GREGORIAN
BEGIN:VTIMEZONE
TZID:America/New_York
BEGIN:STANDARD
RRULE:FREQ=YEARLY;BYMONTH=11;BYDAY=+11SU
DTSTART:16011101T020000
TZOFFSETFROM:-0300
TZOFFSETTO:-0400
END:STANDARD
BEGIN:DAYLIGHT
RRULE:FREQ=YEARLY;BYMONTH=3;BYDAY=+12SU
DTSTART:16010302T020000
TZOFFSETFROM:-0400
TZOFFSETTO:-0300
END:DAYLIGHT
END:VTIMEZONE
BEGIN:VEVENT
DTEND;TZID=America/New_York:20160124T210000
UID:69ecf7f63ae39
DTSTAMP;TZID=America/New_York:20260425T225054
LOCATION:8100 ft. smallwood road please
DESCRIPTION:Number 2 ###
URL;VALUE=URI:https://twperry.com/events/test-2-part-2
SUMMARY:Test #2 part 2
DTSTART;TZID=America/New_York:20160123T180000
END:VEVENT
END:VCALENDAR