BEGIN:VCALENDAR
VERSION:2.0
PRODID:-//hacksw/handcal//NONSGML v1.0//EN
CALSCALE:GREGORIAN
BEGIN:VTIMEZONE
TZID:America/New_York
BEGIN:STANDARD
RRULE:FREQ=YEARLY;BYMONTH=11;BYDAY=+11SU
DTSTART:16011101T020000
TZOFFSETFROM:-0300
TZOFFSETTO:-0400
END:STANDARD
BEGIN:DAYLIGHT
RRULE:FREQ=YEARLY;BYMONTH=3;BYDAY=+12SU
DTSTART:16010302T020000
TZOFFSETFROM:-0400
TZOFFSETTO:-0300
END:DAYLIGHT
END:VTIMEZONE
BEGIN:VEVENT
DTEND;TZID=America/New_York:20141010T180000
UID:69ed50dc802e8
DTSTAMP;TZID=America/New_York:20260426T051012
LOCATION:4321 Fitch Avenue\, Baltimore\, MD 21236
DESCRIPTION:Join us for a delicious lunch\, prizes and fun! &nbsp\;Take a tour of our fully stocked yard! Lunch from Mission BBQ&nbsp\; Meet 98 Rock's Morning Show&nbsp\; Win Raven's Tickets Tradeshow with Over 20 Product Experts When:&nbsp\;Friday\, October 10\, 2014 - 11:30am to 2:00pm Where: TW Perry Baltimore - 4321 Fitch Avenue\, Baltimore\, MD 21236
URL;VALUE=URI:https://twperry.com/events/tw-perry-baltimore-customer-appreciation-day
SUMMARY:TW Perry Baltimore - Customer Appreciation Day
DTSTART;TZID=America/New_York:20141010T153000
END:VEVENT
END:VCALENDAR