BEGIN:VCALENDAR
VERSION:2.0
PRODID:-//hacksw/handcal//NONSGML v1.0//EN
CALSCALE:GREGORIAN
BEGIN:VTIMEZONE
TZID:America/New_York
BEGIN:STANDARD
RRULE:FREQ=YEARLY;BYMONTH=11;BYDAY=+11SU
DTSTART:16011101T020000
TZOFFSETFROM:-0300
TZOFFSETTO:-0400
END:STANDARD
BEGIN:DAYLIGHT
RRULE:FREQ=YEARLY;BYMONTH=3;BYDAY=+12SU
DTSTART:16010302T020000
TZOFFSETFROM:-0400
TZOFFSETTO:-0300
END:DAYLIGHT
END:VTIMEZONE
BEGIN:VEVENT
DTEND;TZID=America/New_York:20160720T130000
UID:69ed0c86e7d23
DTSTAMP;TZID=America/New_York:20260426T001838
LOCATION:9015 Brookville Road\, Silver Spring\, MD 20910
DESCRIPTION:Join us for a free Paint and Windows AIA Lunch and Learn on Wednesday\, July 20\, 2016\, from 12-1pm at our Silver Spring location.&nbsp\; This program clearly focuses on the different performance&nbsp\;levels of paint applied to an aluminum substrate as defined by the American Architectural Manufactures Association (AAMA). After taking this course you will be able to: Review the important functions that AAMA provides for the fenestration industry Clearly identify crucial performance characteristics of AAMA2605 paint specifications Learn several key concepts about Kynar resin as an igredient to high grade exterior paint Paint processes\, warranties\, field service and other key elements visited&nbsp\; *1 Learning Unit - LU/HSW - Corse #: 5LWP16* RSVP: marketing@twperry.com&nbsp\; &nbsp\;
URL;VALUE=URI:https://twperry.com/events/aia-lunch-and-learn-1
SUMMARY:AIA Lunch and Learn
DTSTART;TZID=America/New_York:20160720T120000
END:VEVENT
END:VCALENDAR