BEGIN:VCALENDAR
VERSION:2.0
PRODID:-//hacksw/handcal//NONSGML v1.0//EN
CALSCALE:GREGORIAN
BEGIN:VTIMEZONE
TZID:America/New_York
BEGIN:STANDARD
RRULE:FREQ=YEARLY;BYMONTH=11;BYDAY=+11SU
DTSTART:16011101T020000
TZOFFSETFROM:-0300
TZOFFSETTO:-0400
END:STANDARD
BEGIN:DAYLIGHT
RRULE:FREQ=YEARLY;BYMONTH=3;BYDAY=+12SU
DTSTART:16010302T020000
TZOFFSETFROM:-0400
TZOFFSETTO:-0300
END:DAYLIGHT
END:VTIMEZONE
BEGIN:VEVENT
DTEND;TZID=America/New_York:20160922T163000
UID:69ed0c866ba25
DTSTAMP;TZID=America/New_York:20260426T001838
LOCATION:2700 Turf Valley Road\, Ellicott City\, MD 21042
DESCRIPTION:This Workshop provides 6 AIA LU credits - Includes breakfast &amp\; lunch. Registration and Breakfast from 7:30-8:30am&nbsp\; Workshop ends at 4:30pm &nbsp\; September 22\, 2016 – Turf Valley Resort &nbsp\; ITINERARY 7:30am–8:30am&nbsp\;Registration &amp\; Breakfast Course 1:&nbsp\;Vinyl Windows: Performance\, Construction\, and Functionality for Residential and Light-Commercial Applications: MI Windows 1 AIA LU Course 2:&nbsp\;PVC 101 – The Benefits &amp\; Uses of Cellular PVC Trim: Versatex 1 AIA LU/HSW Course 3:&nbsp\;Paint and Windows: Defining the Exterior Paint Benchmark for Windows and Patio Doors: Lincoln 1 AIA LU/HSW Course 4:&nbsp\;Understanding Mortarless Stone Veneer and Other Stone Veneer Products: Boral 1 AIA LU/HSW Course 5:&nbsp\;Glass: Select the Option For Your Project: Andersen Windows 1 AIA LU Course 6:&nbsp\;Enhancing Kitchen and Bath Design: Metrie 1 AIA LU/HSW CLICK HERE TO REGISTER &nbsp\; &nbsp\;
URL;VALUE=URI:https://twperry.com/events/baltimore-architectural-workshop
SUMMARY:Baltimore Architectural Workshop 
DTSTART;TZID=America/New_York:20160922T073000
END:VEVENT
END:VCALENDAR