BEGIN:VCALENDAR
VERSION:2.0
PRODID:-//hacksw/handcal//NONSGML v1.0//EN
CALSCALE:GREGORIAN
BEGIN:VTIMEZONE
TZID:America/New_York
BEGIN:STANDARD
RRULE:FREQ=YEARLY;BYMONTH=11;BYDAY=+11SU
DTSTART:16011101T020000
TZOFFSETFROM:-0300
TZOFFSETTO:-0400
END:STANDARD
BEGIN:DAYLIGHT
RRULE:FREQ=YEARLY;BYMONTH=3;BYDAY=+12SU
DTSTART:16010302T020000
TZOFFSETFROM:-0400
TZOFFSETTO:-0300
END:DAYLIGHT
END:VTIMEZONE
BEGIN:VEVENT
DTEND;TZID=America/New_York:20161020T163000
UID:69ed3c159b472
DTSTAMP;TZID=America/New_York:20260426T034133
LOCATION:421 7th Street NW\, Washington\, DC 20004
DESCRIPTION:This Workshop provides 6 AIA LU credits - Includes breakfast &amp\; lunch. Registration and Breakfast from 7:30-8:30am&nbsp\; Workshop ends at 4:30pm &nbsp\; October 20\, 2016 – District Architectural Center &nbsp\; ITINERARY 7:30am–8:30am&nbsp\;Registration &amp\; Breakfast Course 1:&nbsp\;Architectural Windows and Patio Doors: Recognizing Performance and Design: Lincoln Windows 1 AIA LU/HSW Course 2:&nbsp\;Construction Considerations for Designing Unique and Enduring Custom Entry Systems: TW Perry 1 AIA LU/HSW Course 3:&nbsp\;Understanding Mortarless Stone Veneer and Other Stone Veneer Products Course 4:&nbsp\;Style Guide: Andersen Windows&nbsp\;1 AIA LU/HSW Course 5:&nbsp\;Enhancing Kitchen and Bath Design: Mertire&nbsp\;1 AIA LU/HSW Course 6:&nbsp\;Vinyl Windows: Performance\, Construction\, and Functionality For Residential and Light-Commercial Applications: MI Windows 1 AIA LU CLICK HERE TO REGISTER
URL;VALUE=URI:https://twperry.com/events/dc-architectural-workshop
SUMMARY:DC Architectural Workshop
DTSTART;TZID=America/New_York:20161020T073000
END:VEVENT
END:VCALENDAR