BEGIN:VCALENDAR
VERSION:2.0
PRODID:-//hacksw/handcal//NONSGML v1.0//EN
CALSCALE:GREGORIAN
BEGIN:VTIMEZONE
TZID:America/New_York
BEGIN:STANDARD
RRULE:FREQ=YEARLY;BYMONTH=11;BYDAY=+11SU
DTSTART:16011101T020000
TZOFFSETFROM:-0300
TZOFFSETTO:-0400
END:STANDARD
BEGIN:DAYLIGHT
RRULE:FREQ=YEARLY;BYMONTH=3;BYDAY=+12SU
DTSTART:16010302T020000
TZOFFSETFROM:-0400
TZOFFSETTO:-0300
END:DAYLIGHT
END:VTIMEZONE
BEGIN:VEVENT
DTEND;TZID=America/New_York:20161014T133000
UID:69ed0c2855f43
DTSTAMP;TZID=America/New_York:20260426T001704
LOCATION:9015 Brookville Road\, Silver Spring\, MD
DESCRIPTION:We would like to thank you for your business at a Fall Celebration at our TW Perry location in Silver Spring! &nbsp\; &gt\;&gt\; Meet Product Experts! &gt\;&gt\; Lunch on us from the Food Truck of your choice! &gt\;&gt\; Over 30 Prizes! &nbsp\; Friday\, October 14th 11:30 am - 1:30 pm &nbsp\;
URL;VALUE=URI:https://twperry.com/events/2016-fall-customer-appreciation-day
SUMMARY:2016 Fall Customer Appreciation Day
DTSTART;TZID=America/New_York:20161014T113000
END:VEVENT
END:VCALENDAR