BEGIN:VCALENDAR
VERSION:2.0
PRODID:-//hacksw/handcal//NONSGML v1.0//EN
CALSCALE:GREGORIAN
BEGIN:VTIMEZONE
TZID:America/New_York
BEGIN:STANDARD
RRULE:FREQ=YEARLY;BYMONTH=11;BYDAY=+11SU
DTSTART:16011101T020000
TZOFFSETFROM:-0300
TZOFFSETTO:-0400
END:STANDARD
BEGIN:DAYLIGHT
RRULE:FREQ=YEARLY;BYMONTH=3;BYDAY=+12SU
DTSTART:16010302T020000
TZOFFSETFROM:-0400
TZOFFSETTO:-0300
END:DAYLIGHT
END:VTIMEZONE
BEGIN:VEVENT
DTEND;TZID=America/New_York:20161111T153000
UID:69ed3b3e4d525
DTSTAMP;TZID=America/New_York:20260426T033758
LOCATION:5701 Marinelli Road\, North Bethesda\, MD 20852
DESCRIPTION:RSVP:&nbsp\;http://twp2016college.eventbrite.com COST $25&nbsp\;–&nbsp\;(Value $250)&nbsp\;- includes full day of valuable seminars\, hot breakfast &amp\; lunch\, and Steve McClatchy’s New York Times Bestselling book Decide. &nbsp\; 7:30am - 8:30am Registration &amp\; Breakfast - Bring your Appetites! 8:30am - 10:00am Decide: Work Smarter\, Reduce Your Stress and Lead By Example Keynote Speaker - Steve McClatchy\, Alleer Training &amp\; Consulting Your life is a product of your decisions. Your criterion for making decisions is at the very core of your effectiveness.&nbsp\;&nbsp\; Great decision making habits can yield a lifetime of success and achievements while poor ones can keep you stressed\, frustrated and out of balance.&nbsp\; In this fast paced\, interactive and engaging presentation you will learn how to prevent “burn out” and “ruts” and perform at your personal best on a daily basis.&nbsp\; Decide will keep you moving forward in your personal life\, in your relationships and in your business.&nbsp\; If you are looking for a new and fresh perspective on effective decision making\, motivation and success this is a “don’t miss” presentation. 10:15am - 11:45am Contractual Agreements &amp\; Legal Advise By Mark Gilday\, BBS&amp\;G Attorneys Seminar covers writing contracts for builders &amp\; homeowners\; Pitfalls and Lien Rights\; plus&nbsp\; local Case Overview &nbsp\;&nbsp\;&nbsp\;&nbsp\;&nbsp\;&nbsp\;&nbsp\;&nbsp\;&nbsp\;&nbsp\;&nbsp\;&nbsp\;&nbsp\;&nbsp\;&nbsp\; 12pm - 1:15pm&nbsp\; LUNCH Enjoy a hot lunch and visit with product experts&nbsp\;&nbsp\;&nbsp\; 1:15pm – 2:15pm Wall water management By Doug Horgan\, VP Best Practices BOWA - Transforming Houses into Homes All exterior finishes leak\, and we must have a reliable way to handle the water or it will cause rot\, mold\, and expensive repairs. What are the materials used for the Water-Resistive Barrier (WRB)\, and how are they properly installed? How do we handle penetrations\, windows\, and connections to roofs and other adjacent assemblies? This informative session will help you understand this common problem in the metro DC area. 2:30pm – 3:30pm Getting what you expect from Your Marketing By Alexander Fakeri\, CEO MOJO Creative Digital Marketing with Strategy (marketing pathways - knowing what to expect) Making a Plan (demo marketing plan - who to target\, timelines and priorities) Top 10 Most Effective ways to market Today&nbsp\; &nbsp\; Steve McClatchy is a keynote speaker\, workshop leader and author of the award winning New York Times Bestseller “Decide: Work Smarter\, Reduce Your Stress &amp\; Lead by Example”.&nbsp\; Steve has spoken before thousands of audiences on the topics of leadership\, sales\, time management and work/life balance.&nbsp\; His client list includes the NFL\, Google\, Under Armour\, Disney\, Pfizer\, Microsoft\, NBC Universal\, Accenture\, HP\, Discovery Channel\, Tiffany’s\, Wells Fargo and Campbell’s Soup.&nbsp\; He is a frequent guest lecturer at Harvard and Wharton\, has appeared on ABC\, CBS\, Fox News and NBC’s The Today Show and has been quoted in The Wall Street Journal\, Fast Company\, WebMD\, Oprah Magazine\, Entrepreneur and Investor’s Business Daily.&nbsp\; Steve’s passion is for continual improvement and believes that when we stop growing\, learning\, gaining experience and achieving goals we stop living.&nbsp\; Steve is best known for his passion\, sense of humor and energetic personality.&nbsp\; You will be captivated\, motivated and truly inspired by his unique and practical approach to effectiveness and success.
URL;VALUE=URI:https://twperry.com/events/2016-contractor-college-–-gain-retain-business
SUMMARY:2016 Contractor College – Gain & Retain Business
DTSTART;TZID=America/New_York:20161111T073000
END:VEVENT
END:VCALENDAR